{"text_format":"3","workbook":"xlsx","n_sheets":1,"sheets":["Sheet1"],"not_rendered":{"external_links":1},"read":"whole","date_system":"1900"}

{"sheet":"Sheet1","index":0,"n_rows":36,"n_cols":47,"rows_kept":36,"merged":[[1,9,2,16],[1,19,1,26],[1,29,1,36],[1,39,1,46],[2,24,2,26],[2,34,2,36],[2,44,2,46],[3,24,3,25],[3,31,3,32],[3,34,3,35],[3,44,3,45],[4,13,4,15],[4,31,4,32],[4,34,4,35],[5,2,5,6],[5,13,5,15],[5,31,5,32],[6,13,6,15],[6,31,6,32],[7,2,7,6],[7,13,7,15],[8,9,8,16],[8,31,8,32],[8,34,8,35],[9,2,9,6],[9,13,9,15],[9,20,9,21],[10,13,10,15],[10,20,10,21],[10,29,10,30],[10,39,10,40],[11,13,11,15],[11,29,11,30],[11,39,11,40],[12,13,12,15],[13,2,13,6],[13,20,13,21],[14,20,14,21],[14,29,14,30],[14,39,14,40],[15,10,15,11],[15,29,15,30],[15,39,15,40],[16,10,16,11],[17,2,17,6],[17,10,17,11],[17,20,17,21],[18,10,18,11],[18,20,18,21],[18,29,18,30],[18,39,18,40],[19,10,19,11],[19,13,22,13],[19,29,19,30],[19,39,19,40],[20,2,20,6],[20,10,20,11],[21,2,22,6],[21,10,21,11],[22,10,22,11],[23,10,23,11],[23,20,23,22],[23,24,23,26],[23,29,23,31],[23,34,23,35],[23,39,23,41],[23,43,23,45],[24,29,24,30],[26,1,27,6],[27,29,27,30],[27,35,27,36],[31,9,31,10]]}
[]
[{"$nulls":9},"参考答案及血型血清学室间质控结果汇总",{"$nulls":9},"ABO/Rh定型",{"$nulls":9},"抗体筛选与鉴定",{"$nulls":9},"交叉配型结果"]
[null,"EQAS回执报告(全国血型血清学室间质控)",{"$nulls":17},"参考答案:",{"$nulls":4},"您的答案字体为黑体加粗",{"$nulls":4},"参考答案",{"$nulls":4},"您的答案字体为黑体加粗",{"$nulls":4},"参考答案",{"$nulls":4},"您的答案字体为黑体加粗"]
[{"$nulls":9},"参考答案:",{"$nulls":10},"患者","ABO","RhD","直抗","参考答案字体有底纹",{"$nulls":5},"患者",{"$nulls":3},"参考答案字体有底纹",{"$nulls":6},"献血者1","献血者2","献血者3","参考答案字体有底纹"]
[{"$nulls":10},"患者","ABO","RhD","不规则抗体",{"$nulls":6},1,{"$f":"L6","v":"B"},"阳性",{"$nulls":7},1,{"$f":"N6","v":"检出抗C,Jkb"},null,null,"UI=未能检出",{"$nulls":5},"患者1","阳性","阳性","阳性"]
[null,"实验室编号:","QC007",{"$nulls":7},1,"B","阳性","检出抗C,Jkb",{"$nulls":6},2,"A","阳性",{"$nulls":7},2,{"$f":"N7","v":"未检出"},{"$nulls":8},"患者2","阴性","阴性","阳性"]
[{"$nulls":10},2,"A","阳性","未检出",{"$nulls":6},3,"O","阳性",{"$nulls":7},3,{"$f":"N8","v":"未检出"},{"$nulls":8},"患者3","阴性","阳性","阳性"]
[null,"姓名:","何子毅",{"$nulls":7},3,"O","阳性","未检出"]
[{"$nulls":20},"患者1",null,"ABO血型","RhD血型","直抗",{"$nulls":6},"抗体筛选",null,null,"抗体鉴定(检出抗体特异性)",{"$nulls":6},"献血者1","献血者2","献血者3"]
[null,"单位:","血型室",{"$nulls":7},"献血者","ABO","RhD","抗原分型",{"$nulls":6},"您实验室答案",null,"A","UI",null,"您的分数=","200",null,null,"患者1",{"$nulls":9},"患者1"]
[{"$nulls":10},"W","O","阳性","不含有C抗原,含Jkb抗原",{"$nulls":6},"参考答案",null,{"$f":"L6","v":"B"},{"$f":"M6","v":"阳性"},{"$f":"IF(X5=\"\",\"\",X5)","v":""},{"$nulls":4},"您实验室答案",null,null,"您的分数=","0","C,Jkb,","您的分数=","20",null,null,"您实验室答案",{"$nulls":3},"阳性","阴性","阳性","40"]
[{"$nulls":10},"Y","A","阳性","含有C抗原",{"$nulls":15},"参考答案",null,{"$f":"IF(N6=\"未检出\",\"阴性\",\"阳性\")","v":"阳性"},null,null,{"$f":"IF(AF12=\"阴性\",\"\",N6)","v":"检出抗C,Jkb"},{"$nulls":4},"参考答案",null,{"$f":"AP5","v":"阳性"},{"$f":"AQ5","v":"阳性"},{"$f":"AR5","v":"阳性"}]
[{"$nulls":10},"Z","B","阳性","不含有C抗原，含Jkb抗原",{"$nulls":6},"患者2"]
[null,"地址:",{"$nulls":12},"广东",{"$nulls":5},"您实验室答案",null,"O","阴性",null,"您的分数=","200",null,null,"患者2",{"$nulls":9},"患者2"]
[{"$nulls":9},"您实验室的罚分",{"$nulls":10},"参考答案",null,{"$f":"L7","v":"A"},{"$f":"M7","v":"阳性"},{"$f":"IF(X6=\"\",\"\",X6)","v":""},{"$nulls":4},"您实验室答案",null,null,"您的分数=","0",null,"您的分数=","0",null,null,"您实验室答案",{"$nulls":3},"阴性","阳性","阴性","120"]
[{"$nulls":12},"错误数","罚分标准","累计罚分",{"$nulls":14},"参考答案",null,{"$f":"IF(N7=\"未检出\",\"阴性\",\"阳性\")","v":"阴性"},null,null,{"$f":"IF(AF16=\"阴性\",\"\",N7)","v":""},{"$nulls":4},"参考答案",null,{"$f":"AP6","v":"阴性"},{"$f":"AQ6","v":"阴性"},{"$f":"AR6","v":"阳性"}]
[{"$nulls":10},"笔误",null,{"$f":"IF(INDEX([1]答案汇总!A1:AD198,D6+1,29)=\"0\",\"无\",INDEX([1]答案汇总!A1:AD198,D6+1,29))","v":"笔误"},50,{"$nulls":6},"患者3"]
[null,"邮编:",{"$nulls":8},"ABO试验",null,null,100,{"$f":"Y21","v":"200"},{"$nulls":5},"您实验室答案",{"$nulls":4},"您的分数=","0",null,null,"患者3",{"$nulls":9},"患者3"]
[{"$nulls":10},"RhD试验",null,null,100,{"$f":"Y22","v":"200"},{"$nulls":5},"参考答案",null,{"$f":"L8","v":"O"},{"$f":"M8","v":"阳性"},{"$f":"IF(X7=\"\",\"\",X7)","v":""},{"$nulls":4},"您实验室答案",null,null,"您的分数=","0",null,"您的分数=","0",null,null,"您实验室答案",{"$nulls":3},"阴性","阴性","阳性","80"]
[{"$nulls":10},"抗体筛选试验",null,null,"见下表",{"$f":"AJ22","v":"20"},{"$nulls":14},"参考答案",null,{"$f":"IF(N8=\"未检出\",\"阴性\",\"阳性\")","v":"阴性"},null,null,{"$f":"IF(AF20=\"阴性\",\"\",N8)","v":""},{"$nulls":4},"参考答案",null,{"$f":"AP7","v":"阴性"},{"$f":"AQ7","v":"阳性"},{"$f":"AR7","v":"阳性"}]
[null,"类别：",{"$nulls":8},"抗体鉴定试验",{"$nulls":3},{"$f":"AJ23","v":"0"},{"$nulls":5},"您实验室以上罚分",null,null,"ABO"]
[null,null,{"$f":"IF(INDEX([1]答案汇总!A1:AE198,[1]报表1!D6+1,2)=\"0\",\"该单位没有参加这次实验\",\"\")","v":""},{"$nulls":7},"交叉配血试验",{"$nulls":3},{"$f":"AT22","v":"240"},{"$nulls":8},"RhD",{"$nulls":5},"   您实验室以上罚分",{"$nulls":4},"抗体筛选",{"$f":"AH11+AH15+AH19","v":0},{"$nulls":3},"   您实验室以上罚分",{"$nulls":3},"交叉配血"]
[{"$nulls":10},"直抗",{"$nulls":3},{"$f":"IFERROR(Y23,\"\")","v":"0"},{"$nulls":19},"抗体鉴定",{"$f":"AK11+AK15+AK19","v":0}]
[{"$nulls":10},"总计",{"$nulls":3},"660",{"$nulls":5},"参加ABO/Rh鉴定单位数",null,null,{"$f":"COUNTIF([1]答案汇总!B2:B198,\"1\")+COUNTIF([1]答案汇总!B2:B198,\"2\")+COUNTIF([1]答案汇总!B2:B198,\"3\")","v":128},"以下是各项目结果百分比统计",{"$nulls":4},"参加本次抗体筛选单位数",null,null,{"$f":"COUNTIF([1]答案汇总!B2:B198,\"1\")+COUNTIF([1]答案汇总!B2:B198,\"2\")","v":127},null,"参加本次抗体鉴定单位数",null,{"$f":"COUNTIF([1]答案汇总!B2:B198,\"1\")","v":76},null,null,"本次参加室间质控单位数",null,null,{"$f":"COUNTIF([1]答案汇总!B2:B198,\"1\")+COUNTIF([1]答案汇总!B2:B198,\"2\")","v":127},"以下是各项目结果百分比统计"]
[{"$nulls":9},"罚分标准表",{"$nulls":10},"ABO血型",{"$nulls":8},{"$f":"[1]答案百分比!G1","v":"患者1抗体筛选"},null,null,{"$f":"[1]答案百分比!G11","v":"患者2抗体筛选"},null,null,{"$f":"[1]答案百分比!G21","v":"患者3抗体筛选"},{"$nulls":4},"患者1",null,"患者2",null,"患者3"]
[{"$nulls":11},"抗体筛选","抗体鉴定","献血者1","献血者2","献血者3","直抗",{"$nulls":3},"患者1",null,"患者2",null,"患者3",{"$nulls":4},{"$f":"[1]答案百分比!G2","v":"阳性"},{"$f":"[1]答案百分比!H2","v":{"v":0.9921259842519685,"d":"99.2%"}},null,{"$f":"IF([1]答案百分比!G12=0,\"\",[1]答案百分比!G12)","v":"阴性"},{"$f":"[1]答案百分比!H12","v":{"v":1,"d":"100.0%"}},null,{"$f":"IF([1]答案百分比!G22=0,\"\",[1]答案百分比!G22)","v":"阴性"},{"$f":"[1]答案百分比!H22","v":{"v":0.9921259842519685,"d":"99.2%"}},null,null,"献血者1",{"$f":"[1]答案百分比!J2","v":"阳性"},{"$f":"[1]答案百分比!K2","v":{"v":0.07874015748031496,"d":"7.9%"}},{"$f":"[1]答案百分比!J12","v":"阴性"},{"$f":"[1]答案百分比!K12","v":{"v":1,"d":"100.0%"}},{"$f":"[1]答案百分比!J22","v":"阴性"},{"$f":"[1]答案百分比!K22","v":{"v":0.9921259842519685,"d":"99.2%"}}]
[{"$nulls":10},"患者1",{"$f":"[1]罚分表!B4","v":80},{"$f":"[1]罚分表!B5","v":20},{"$f":"[1]罚分表!B6","v":20},{"$f":"[1]罚分表!B7","v":80},{"$f":"[1]罚分表!B8","v":20},{"$f":"[1]罚分表!B9","v":20},{"$nulls":3},{"$f":"[1]答案百分比!A2","v":"B"},{"$f":"[1]答案百分比!B2","v":{"v":1,"d":"100%"}},{"$f":"[1]答案百分比!A12","v":"A"},{"$f":"[1]答案百分比!B12","v":{"v":1,"d":"100%"}},{"$f":"[1]答案百分比!A22","v":"O"},{"$f":"[1]答案百分比!B22","v":{"v":1,"d":"100%"}},{"$nulls":3},{"$f":"IF([1]答案百分比!G3=0,\"\",[1]答案百分比!G3)","v":"阴性"},{"$f":"[1]答案百分比!H3","v":{"v":7.874015748031496E-3,"d":"0.8%"}},null,{"$f":"IF([1]答案百分比!G13=0,\"\",[1]答案百分比!G13)","v":"阳性"},{"$f":"[1]答案百分比!H13","v":{"v":0,"d":"0.0%"}},null,{"$f":"IF([1]答案百分比!G23=0,\"\",[1]答案百分比!G23)","v":"阳性"},{"$f":"[1]答案百分比!H23","v":{"v":7.874015748031496E-3,"d":"0.8%"}},{"$nulls":3},{"$f":"[1]答案百分比!J3","v":"阴性"},{"$f":"[1]答案百分比!K3","v":{"v":0.9212598425196851,"d":"92.1%"}},{"$f":"[1]答案百分比!J13","v":"阳性"},{"$f":"[1]答案百分比!K13","v":{"v":0,"d":"0.0%"}},{"$f":"[1]答案百分比!J23","v":"阳性"},{"$f":"[1]答案百分比!K23","v":{"v":7.874015748031496E-3,"d":"0.8%"}}]
[{"$nulls":10},"患者2",{"$f":"[1]罚分表!C4","v":40},{"$f":"[1]罚分表!C5","v":0},{"$f":"[1]罚分表!C6","v":40},{"$f":"[1]罚分表!C7","v":40},{"$f":"[1]罚分表!C8","v":80},{"$f":"[1]罚分表!C9","v":20},{"$nulls":3},{"$f":"IF([1]答案百分比!A3=0,\"\",[1]答案百分比!A3)","v":""},{"$f":"IF([1]答案百分比!B3=0,\"\",[1]答案百分比!B3)","v":""},{"$f":"IF([1]答案百分比!A13=0,\"\",[1]答案百分比!A13)","v":""},{"$f":"IF([1]答案百分比!B13=0,\"\",[1]答案百分比!B13)","v":""},{"$f":"IF([1]答案百分比!A23=0,\"\",[1]答案百分比!A23)","v":""},{"$f":"IF([1]答案百分比!B23=0,\"\",[1]答案百分比!B23)","v":""},{"$nulls":3},{"$f":"IF([1]答案百分比!G4=0,\"\",[1]答案百分比!G4)","v":"患者1抗体鉴定"},null,null,{"$f":"IF([1]答案百分比!G14=0,\"\",[1]答案百分比!G14)","v":"患者2抗体鉴定"},null,null,{"$f":"IF([1]答案百分比!G24=0,\"\",[1]答案百分比!G24)","v":"患者3抗体鉴定"}]
[{"$nulls":10},"患者3",{"$f":"[1]罚分表!D4","v":40},{"$f":"[1]罚分表!D5","v":0},{"$f":"[1]罚分表!D6","v":40},{"$f":"[1]罚分表!D7","v":80},{"$f":"[1]罚分表!D8","v":80},{"$f":"[1]罚分表!D9","v":20},{"$nulls":3},{"$f":"IF([1]答案百分比!A4=0,\"\",[1]答案百分比!A4)","v":""},{"$f":"IF([1]答案百分比!B4=0,\"\",[1]答案百分比!B4)","v":""},{"$f":"IF([1]答案百分比!A14=0,\"\",[1]答案百分比!A14)","v":""},{"$f":"IF([1]答案百分比!B14=0,\"\",[1]答案百分比!B14)","v":""},{"$f":"IF([1]答案百分比!A24=0,\"\",[1]答案百分比!A24)","v":""},{"$f":"IF([1]答案百分比!B24=0,\"\",[1]答案百分比!B24)","v":""},{"$nulls":3},{"$f":"IF([1]答案百分比!G5=0,\"\",[1]答案百分比!G5)","v":"C,Jkb"},{"$f":"IF([1]答案百分比!H5=0,\"\",[1]答案百分比!H5)","v":{"v":0.02631578947368421,"d":"2.6%"}},null,{"$f":"IF([1]答案百分比!G15=0,\"\",[1]答案百分比!G15)","v":" "},{"$f":"IF([1]答案百分比!H15=0,\"\",[1]答案百分比!H15)","v":""},null,{"$f":"IF([1]答案百分比!G25=0,\"\",[1]答案百分比!G25)","v":" "},{"$f":"IF([1]答案百分比!H25=0,\"\",[1]答案百分比!H25)","v":""},null,null,"献血者2",{"$f":"[1]答案百分比!M2","v":"阳性"},{"$f":"[1]答案百分比!N2","v":{"v":1,"d":"100.0%"}},{"$f":"[1]答案百分比!M12","v":"阴性"},{"$f":"[1]答案百分比!N12","v":{"v":1,"d":"100.0%"}},{"$f":"[1]答案百分比!M22","v":"阳性"},{"$f":"[1]答案百分比!N22","v":{"v":1,"d":"100.0%"}}]
[{"$nulls":20},{"$f":"IF([1]答案百分比!A5=0,\"\",[1]答案百分比!A5)","v":""},{"$f":"IF([1]答案百分比!B5=0,\"\",[1]答案百分比!B5)","v":""},{"$nulls":7},{"$f":"IF([1]答案百分比!G6=0,\"\",[1]答案百分比!G6)","v":"C,UI"},{"$f":"IF([1]答案百分比!H6=0,\"\",[1]答案百分比!H6)","v":{"v":0.05263157894736842,"d":"5.3%"}},null,{"$f":"IF([1]答案百分比!G16=0,\"\",[1]答案百分比!G16)","v":" "},{"$f":"IF([1]答案百分比!H16=0,\"\",[1]答案百分比!H16)","v":""},null,{"$f":"IF([1]答案百分比!G26=0,\"\",[1]答案百分比!G26)","v":"UI"},{"$f":"IF([1]答案百分比!H26=0,\"\",[1]答案百分比!H26)","v":{"v":0.013157894736842105,"d":"1.3%"}},{"$nulls":3},{"$f":"[1]答案百分比!M3","v":"阴性"},{"$f":"[1]答案百分比!N3","v":{"v":0,"d":"0.0%"}},{"$f":"[1]答案百分比!M13","v":"阳性"},{"$f":"[1]答案百分比!N13","v":{"v":0,"d":"0.0%"}},{"$f":"[1]答案百分比!M23","v":"阴性"},{"$f":"[1]答案百分比!N23","v":{"v":0,"d":"0.0%"}}]
[{"$nulls":9},"您实验室的质控结果",{"$nulls":10},"RhD血型",{"$nulls":8},{"$f":"IF([1]答案百分比!G7=0,\"\",[1]答案百分比!G7)","v":"C"},{"$f":"IF([1]答案百分比!H7=0,\"\",[1]答案百分比!H7)","v":{"v":0.9078947368421053,"d":"90.8%"}},null,{"$f":"IF([1]答案百分比!G17=0,\"\",[1]答案百分比!G17)","v":" "},{"$f":"IF([1]答案百分比!H17=0,\"\",[1]答案百分比!H17)","v":""},null,{"$f":"IF([1]答案百分比!G27=0,\"\",[1]答案百分比!G27)","v":" "},{"$f":"IF([1]答案百分比!H27=0,\"\",[1]答案百分比!H27)","v":""}]
[{"$nulls":9},"您实验室的Z值=",{"$nulls":10},{"$f":"[1]答案百分比!D2","v":"阳性"},{"$f":"[1]答案百分比!E2","v":{"v":1,"d":"100%"}},{"$f":"[1]答案百分比!D12","v":"阳性"},{"$f":"[1]答案百分比!E12","v":{"v":1,"d":"100%"}},{"$f":"[1]答案百分比!D22","v":"阳性"},{"$f":"[1]答案百分比!E22","v":{"v":1,"d":"100%"}},{"$nulls":3},{"$f":"IF([1]答案百分比!G8=0,\"\",[1]答案百分比!G8)","v":"C,S"},{"$f":"IF([1]答案百分比!H8=0,\"\",[1]答案百分比!H8)","v":{"v":0.013157894736842105,"d":"1.3%"}},null,{"$f":"IF([1]答案百分比!G18=0,\"\",[1]答案百分比!G18)","v":" "},{"$f":"IF([1]答案百分比!H18=0,\"\",[1]答案百分比!H18)","v":""},null,{"$f":"IF([1]答案百分比!G28=0,\"\",[1]答案百分比!G28)","v":" "},{"$f":"IF([1]答案百分比!H28=0,\"\",[1]答案百分比!H28)","v":""},null,null,"献血者3",{"$f":"[1]答案百分比!P2","v":"阳性"},{"$f":"[1]答案百分比!Q2","v":{"v":0.12598425196850394,"d":"12.6%"}},{"$f":"[1]答案百分比!P12","v":"阳性"},{"$f":"[1]答案百分比!Q12","v":{"v":1,"d":"100.0%"}},{"$f":"[1]答案百分比!P22","v":"阳性"},{"$f":"[1]答案百分比!Q22","v":{"v":1,"d":"100.0%"}}]
[{"$nulls":20},{"$f":"IF([1]答案百分比!D3=0,\"\",[1]答案百分比!D3)","v":"阴性"},{"$f":"IF(V32=1,0,IF([1]答案百分比!E3=0,\"\",[1]答案百分比!E3))","v":{"v":0,"d":"0%"}},{"$f":"IF([1]答案百分比!D13=0,\"\",[1]答案百分比!D13)","v":"阴性"},{"$f":"IF(X32=1,0,IF([1]答案百分比!E13=0,\"\",[1]答案百分比!E13))","v":{"v":0,"d":"0%"}},{"$f":"IF([1]答案百分比!D23=0,\"\",[1]答案百分比!D23)","v":"阴性"},{"$f":"IF(Z32=1,0,IF([1]答案百分比!E23=0,\"\",[1]答案百分比!E23))","v":{"v":0,"d":"0%"}},{"$nulls":3},{"$f":"IF([1]答案百分比!G9=0,\"\",[1]答案百分比!G9)","v":" "},{"$f":"IF([1]答案百分比!H9=0,\"\",[1]答案百分比!H9)","v":""},null,{"$f":"IF([1]答案百分比!G19=0,\"\",[1]答案百分比!G19)","v":" "},{"$f":"IF([1]答案百分比!H19=0,\"\",[1]答案百分比!H19)","v":""},null,{"$f":"IF([1]答案百分比!G29=0,\"\",[1]答案百分比!G29)","v":" "},{"$f":"IF([1]答案百分比!H29=0,\"\",[1]答案百分比!H29)","v":""},{"$nulls":3},{"$f":"[1]答案百分比!P3","v":"阴性"},{"$f":"[1]答案百分比!Q3","v":{"v":0.8740157480314961,"d":"87.4%"}},{"$f":"[1]答案百分比!P13","v":"阴性"},{"$f":"[1]答案百分比!Q13","v":{"v":0,"d":"0.0%"}},{"$f":"[1]答案百分比!P23","v":"阴性"},{"$f":"[1]答案百分比!Q23","v":{"v":0,"d":"0.0%"}}]
[{"$nulls":10},{"$f":"[1]答案百分比!B32","v":{"v":0.9868421052631579,"d":"98.68%"}},"的实验室","|Z|≤2","满意",{"$nulls":6},{"$f":"IF([1]答案百分比!D4=0,\"\",[1]答案百分比!D4)","v":""},{"$f":"IF([1]答案百分比!E4=0,\"\",[1]答案百分比!E4)","v":""},{"$f":"IF([1]答案百分比!D14=0,\"\",[1]答案百分比!D14)","v":""},{"$f":"IF([1]答案百分比!E14=0,\"\",[1]答案百分比!E14)","v":""},{"$f":"IF([1]答案百分比!D24=0,\"\",[1]答案百分比!D24)","v":""},{"$f":"IF([1]答案百分比!E24=0,\"\",[1]答案百分比!E24)","v":""},{"$nulls":3},{"$f":"IF([1]答案百分比!G10=0,\"\",[1]答案百分比!G10)","v":""}]
[{"$nulls":10},{"$f":"[1]答案百分比!B33","v":{"v":0,"d":"0.00%"}},"的实验室","2<|Z|<3","有待改进"]
[{"$nulls":10},{"$f":"[1]答案百分比!B34","v":{"v":0.013157894736842105,"d":"1.32%"}},"的实验室","|Z|≥3","不满意"]